Workbook

Sheet Dashboard
A1: سجل ملاحظات التشطيب (Snag / Punch List)
A3: إجمالي الملاحظات | B3: =COUNTIF(Punch_List!B2:B201,"?*") -> 0
A4: مفتوحة | B4: =COUNTIF(Punch_List!J2:J201,"مفتوحة") -> 0
A5: قيد المعالجة | B5: =COUNTIF(Punch_List!J2:J201,"قيد المعالجة") -> 0
A6: مغلقة | B6: =COUNTIF(Punch_List!J2:J201,"مغلقة") -> 0
A7: نسبة الإغلاق | B7: =IF(B3=0,0,B6/B3) -> 0
A8: ملاحظات المكتبة المتاحة | B8: =COUNTA(Library!A:A)-1 -> 127
A10: اكتب رمز الملاحظة من ورقة Library في عمود (رمز المكتبة) فيظهر التخصص والوصف والإجراء تلقائيا.

Sheet Punch_List
A1: م | B1: رمز المكتبة | C1: التخصص | D1: الموقع / الغرفة | E1: الملاحظة | F1: الإجراء المطلوب | G1: المسؤول | H1: تاريخ الرصد | I1: تاريخ الإغلاق | J1: الحالة
A2: 1 | C2: =IF(B2="","",IFERROR(VLOOKUP(B2,Library!A:C,3,FALSE),"")) | E2: =IF(B2="","",IFERROR(VLOOKUP(B2,Library!A:E,5,FALSE),"")) | F2: =IF(B2="","",IFERROR(VLOOKUP(B2,Library!A:G,7,FALSE),""))
A3: 2 | C3: =IF(B3="","",IFERROR(VLOOKUP(B3,Library!A:C,3,FALSE),"")) | E3: =IF(B3="","",IFERROR(VLOOKUP(B3,Library!A:E,5,FALSE),"")) | F3: =IF(B3="","",IFERROR(VLOOKUP(B3,Library!A:G,7,FALSE),""))
A4: 3 | C4: =IF(B4="","",IFERROR(VLOOKUP(B4,Library!A:C,3,FALSE),"")) | E4: =IF(B4="","",IFERROR(VLOOKUP(B4,Library!A:E,5,FALSE),"")) | F4: =IF(B4="","",IFERROR(VLOOKUP(B4,Library!A:G,7,FALSE),""))
A5: 4 | C5: =IF(B5="","",IFERROR(VLOOKUP(B5,Library!A:C,3,FALSE),"")) | E5: =IF(B5="","",IFERROR(VLOOKUP(B5,Library!A:E,5,FALSE),"")) | F5: =IF(B5="","",IFERROR(VLOOKUP(B5,Library!A:G,7,FALSE),""))
A6: 5 | C6: =IF(B6="","",IFERROR(VLOOKUP(B6,Library!A:C,3,FALSE),"")) | E6: =IF(B6="","",IFERROR(VLOOKUP(B6,Library!A:E,5,FALSE),"")) | F6: =IF(B6="","",IFERROR(VLOOKUP(B6,Library!A:G,7,FALSE),""))
A7: 6 | C7: =IF(B7="","",IFERROR(VLOOKUP(B7,Library!A:C,3,FALSE),"")) | E7: =IF(B7="","",IFERROR(VLOOKUP(B7,Library!A:E,5,FALSE),"")) | F7: =IF(B7="","",IFERROR(VLOOKUP(B7,Library!A:G,7,FALSE),""))
A8: 7 | C8: =IF(B8="","",IFERROR(VLOOKUP(B8,Library!A:C,3,FALSE),"")) | E8: =IF(B8="","",IFERROR(VLOOKUP(B8,Library!A:E,5,FALSE),"")) | F8: =IF(B8="","",IFERROR(VLOOKUP(B8,Library!A:G,7,FALSE),""))
A9: 8 | C9: =IF(B9="","",IFERROR(VLOOKUP(B9,Library!A:C,3,FALSE),"")) | E9: =IF(B9="","",IFERROR(VLOOKUP(B9,Library!A:E,5,FALSE),"")) | F9: =IF(B9="","",IFERROR(VLOOKUP(B9,Library!A:G,7,FALSE),""))
A10: 9 | C10: =IF(B10="","",IFERROR(VLOOKUP(B10,Library!A:C,3,FALSE),"")) | E10: =IF(B10="","",IFERROR(VLOOKUP(B10,Library!A:E,5,FALSE),"")) | F10: =IF(B10="","",IFERROR(VLOOKUP(B10,Library!A:G,7,FALSE),""))
A11: 10 | C11: =IF(B11="","",IFERROR(VLOOKUP(B11,Library!A:C,3,FALSE),"")) | E11: =IF(B11="","",IFERROR(VLOOKUP(B11,Library!A:E,5,FALSE),"")) | F11: =IF(B11="","",IFERROR(VLOOKUP(B11,Library!A:G,7,FALSE),""))
A12: 11 | C12: =IF(B12="","",IFERROR(VLOOKUP(B12,Library!A:C,3,FALSE),"")) | E12: =IF(B12="","",IFERROR(VLOOKUP(B12,Library!A:E,5,FALSE),"")) | F12: =IF(B12="","",IFERROR(VLOOKUP(B12,Library!A:G,7,FALSE),""))
A13: 12 | C13: =IF(B13="","",IFERROR(VLOOKUP(B13,Library!A:C,3,FALSE),"")) | E13: =IF(B13="","",IFERROR(VLOOKUP(B13,Library!A:E,5,FALSE),"")) | F13: =IF(B13="","",IFERROR(VLOOKUP(B13,Library!A:G,7,FALSE),""))
... A201: 200 | C201: =IF(B201="","",IFERROR(VLOOKUP(B201,Library!A:C,3,FALSE),"")) | E201: =IF(B201="","",IFERROR(VLOOKUP(B201,Library!A:E,5,FALSE),"")) | F201: =IF(B201="","",IFERROR(VLOOKUP(B201,Library!A:G,7,FALSE),""))

Sheet Library
A1: الرمز | B1: الباب | C1: التخصص | D1: الموضوع | E1: الملاحظة النمطية | F1: الأثر | G1: الإجراء التصحيحي | H1: المرجع
A2: FMI00001 | B2: F01 | C2: MAS | D2: تكبير الفتحات | E2: الإبقاء على عتبة باستناد غير كاف بعد التوسعة. | F2: عدم كفاية حمل البلوك واحتمال تشقق أركان الفتحة. | G2: إزالة العتبة وصب بديل بارتفاع لا يقل عن الأكبر من 20 سم و1/8 الفتحة. | H2: ص 20
A3: FMI00002 | B3: F01 | C3: MAS | D3: تأسيسات الصرف | E3: تعريض المواسير لسقوط المعدات أو مواد البناء أثناء العظم. | F3: تلف محتمل للمواسير وتسرب المياه. | G3: اختبار التأسيسات بخرطوم ماء والتأكد من عدم التسرب. | H3: ص 22
A4: FMI00003 | B4: F01 | C4: MAS | D4: فتحات التسليك | E4: وضع الكلين أوت في مدخل المبنى. | F4: إجراء أعمال التسليك في منطقة دخول المبنى. | G4: اختيار موقع خارج المداخل. | H4: ص 28
A5: FMI00004 | B5: F01 | C5: MAS | D5: الخزان الأرضي | E5: إنهاء غطاء الخزان دون ارتفاع الحماية فوق البلاط. | F5: احتمال دخول مياه غسل الحوش والأمطار. | G5: توفير رقبة تجعل الغطاء أعلى من البلاط بما لا يقل عن 1 سم. | H5: ص 30
A6: FMI00005 | B6: F02 | C6: ELEC | D6: الشتر | E6: إغفال حيز الصندوق عند اختيار تركيب دون تجويف. | F6: اقتطاع الصندوق من ارتفاع الجزء العلوي للنافذة، ويتزايد حجمه مع ارتفاعها. | G6: مراعاة الحيز والتنسيق مع شركة الألمنيوم بشأن أبعاد التجويف ومتطلباته. | H6: ص 44
A7: FMI00006 | B7: F02 | C7: ELEC | D7: التهوية والشفط | E7: اختيار مخرج جداري دون مراعاة أثره بالواجهة في ملحق السطح أو الارتداد الأرضي. | F7: تشوه الواجهة وتجمع الزيوت والأتربة عليها. | G7: تفضيل فتحات السقف حيثما أمكن في هذه المواقع. | H7: ص 47
A8: FMI00007 | B8: F02 | C8: ELEC | D8: التمديدات الأرضية | E8: استخدام تمديد أرضي لا يتحمل حركة المعدات والسقالات والعمالة. | F8: قابلية التلف بالصدمات والكسر. | G8: استخدام مواسير PVC السوداء للامتدادات الأرضية الخارجة من العلب. | H8: ص 48
A9: FMI00008 | B9: F02 | C9: ELEC | D9: علب الكهرباء | E9: استخدام علب بعمق 3 سم بدلا من 4.7 سم. | F9: انحشار الأسلاك عند السحب وصعوبة تركيب أغطية المآخذ. | G9: اختيار العلب الرباعية العميقة 4.7 سم. | H9: ص 49
A10: FMI00009 | B10: F02 | C10: ELEC | D10: إغلاق مجاري التمديدات | E10: إغلاق السباك أو الكهربائي كامل الفتحات. | F10: عدم إسناد ضبط نسب مونة الإغلاق إلى المليس المسؤول عنها. | G10: الاكتفاء بالتثبيت الموضعي وترك الإغلاق الكامل للمليس. | H10: ص 52
A11: FMI00010 | B11: F02 | C11: ELEC | D11: تخزين الأسلاك | E11: حفظ الأسلاك والكيابل في موضع غير محكم. | F11: احتمال التلف أو الفقد. | G11: حفظها في مستودع محكم أو غرفة الحارس وتوريدها بدفعات يومية. | H11: ص 53
A12: FMI00011 | B12: F04 | C12: PLUMB | D12: اختيار نظام السباكة | E12: إغفال صعوبة اكتشاف تسريب السباكة المخفية وصيانته | F12: قد تنتشر الرطوبة في الأسقف والجدران وتتأثر الخرسانة، وقد يلزم فك الأجهزة والبلاط والدفان والعزل وإعادتها بعد الإصلاح | G12: يوصى بالنظام المعلق لسرعة اكتشاف العطل وسهولة الوصول والإصلاح وقلة الكلفة | H12: ص 59
... A128: FMI00127 | B128: F25 | C128: WOOD | D128: الغسيل بالبخار | E128: إخفاء مواسير البخار داخل الجدران. | F128: مخالفة طريقة التنفيذ. | G128: تثبت المواسير ظاهرة بالكليبسات على جدران الغرفة. | H128: ص 585
